BEGIN:VCALENDAR
VERSION:2.0
PRODID:-//Mills College Children&#039;s School - ECPv6.6.4.2//NONSGML v1.0//EN
CALSCALE:GREGORIAN
METHOD:PUBLISH
X-WR-CALNAME:Mills College Children&#039;s School
X-ORIGINAL-URL:https://www.millscollegechildrensschool.org
X-WR-CALDESC:Events for Mills College Children&#039;s School
REFRESH-INTERVAL;VALUE=DURATION:PT1H
X-Robots-Tag:noindex
X-PUBLISHED-TTL:PT1H
BEGIN:VTIMEZONE
TZID:America/Los_Angeles
BEGIN:DAYLIGHT
TZOFFSETFROM:-0800
TZOFFSETTO:-0700
TZNAME:PDT
DTSTART:20230312T100000
END:DAYLIGHT
BEGIN:STANDARD
TZOFFSETFROM:-0700
TZOFFSETTO:-0800
TZNAME:PST
DTSTART:20231105T090000
END:STANDARD
END:VTIMEZONE
BEGIN:VEVENT
DTSTART;VALUE=DATE:20230825
DTEND;VALUE=DATE:20230826
DTSTAMP:20260419T185339
CREATED:20230530T211315Z
LAST-MODIFIED:20230615T224118Z
UID:1735-1692921600-1693007999@www.millscollegechildrensschool.org
SUMMARY:EC Regular Schedule 8:30-3:00/5:30
DESCRIPTION:
URL:https://www.millscollegechildrensschool.org/event/ec-regular-schedule-830-3-530/
END:VEVENT
BEGIN:VEVENT
DTSTART;VALUE=DATE:20230824
DTEND;VALUE=DATE:20230826
DTSTAMP:20260419T185339
CREATED:20230530T220231Z
LAST-MODIFIED:20230615T223748Z
UID:1764-1692835200-1693007999@www.millscollegechildrensschool.org
SUMMARY:ES Regular Schedule w/SAC
DESCRIPTION:
URL:https://www.millscollegechildrensschool.org/event/es-regular-schedule-w-sac/
END:VEVENT
BEGIN:VEVENT
DTSTART;VALUE=DATE:20230824
DTEND;VALUE=DATE:20230825
DTSTAMP:20260419T185339
CREATED:20230615T224012Z
LAST-MODIFIED:20230615T224012Z
UID:1769-1692835200-1692921599@www.millscollegechildrensschool.org
SUMMARY:EC 8:30-3:00
DESCRIPTION:
URL:https://www.millscollegechildrensschool.org/event/ec-830-300/
END:VEVENT
BEGIN:VEVENT
DTSTART;VALUE=DATE:20230823
DTEND;VALUE=DATE:20230824
DTSTAMP:20260419T185339
CREATED:20230530T211052Z
LAST-MODIFIED:20230615T223654Z
UID:1734-1692748800-1692835199@www.millscollegechildrensschool.org
SUMMARY:EC First Day of School: Half day- noon pick up
DESCRIPTION:
URL:https://www.millscollegechildrensschool.org/event/ec-first-days-of-school-half-day-noon-pick-up/
END:VEVENT
BEGIN:VEVENT
DTSTART;VALUE=DATE:20230823
DTEND;VALUE=DATE:20230824
DTSTAMP:20260419T185339
CREATED:20230530T210510Z
LAST-MODIFIED:20230615T223530Z
UID:1733-1692748800-1692835199@www.millscollegechildrensschool.org
SUMMARY:ES First Day of School: Minimum Day (12 noon release); NO SAC
DESCRIPTION:
URL:https://www.millscollegechildrensschool.org/event/es-first-day-of-school-minimum-day-12-noon-release-no-sac/
END:VEVENT
BEGIN:VEVENT
DTSTART;VALUE=DATE:20230728
DTEND;VALUE=DATE:20230729
DTSTAMP:20260419T185339
CREATED:20230605T204931Z
LAST-MODIFIED:20230605T204931Z
UID:1766-1690502400-1690588799@www.millscollegechildrensschool.org
SUMMARY:Last Day of EC Summer
DESCRIPTION:
URL:https://www.millscollegechildrensschool.org/event/last-day-of-ec-summer/
END:VEVENT
BEGIN:VEVENT
DTSTART;VALUE=DATE:20230704
DTEND;VALUE=DATE:20230705
DTSTAMP:20260419T185339
CREATED:20221025T175130Z
LAST-MODIFIED:20221025T175130Z
UID:1695-1688428800-1688515199@www.millscollegechildrensschool.org
SUMMARY:SCHOOL CLOSED: Independence Day Holiday
DESCRIPTION:
URL:https://www.millscollegechildrensschool.org/event/school-closed-independence-day-holiday-3/
END:VEVENT
BEGIN:VEVENT
DTSTART;VALUE=DATE:20230619
DTEND;VALUE=DATE:20230620
DTSTAMP:20260419T185339
CREATED:20221025T172458Z
LAST-MODIFIED:20221025T172458Z
UID:1677-1687132800-1687219199@www.millscollegechildrensschool.org
SUMMARY:SCHOOL CLOSED: Juneteenth Holiday
DESCRIPTION:
URL:https://www.millscollegechildrensschool.org/event/school-closed-juneteenth-holiday/
END:VEVENT
BEGIN:VEVENT
DTSTART;VALUE=DATE:20230609
DTEND;VALUE=DATE:20230610
DTSTAMP:20260419T185339
CREATED:20221025T172256Z
LAST-MODIFIED:20221025T172256Z
UID:1676-1686268800-1686355199@www.millscollegechildrensschool.org
SUMMARY:ES Closed: Summer Prep
DESCRIPTION:
URL:https://www.millscollegechildrensschool.org/event/es-closed-summer-prep-3/
END:VEVENT
BEGIN:VEVENT
DTSTART;VALUE=DATE:20230608
DTEND;VALUE=DATE:20230609
DTSTAMP:20260419T185339
CREATED:20221025T172041Z
LAST-MODIFIED:20221025T172041Z
UID:1675-1686182400-1686268799@www.millscollegechildrensschool.org
SUMMARY:K-5 End of Year Ceremony
DESCRIPTION:
URL:https://www.millscollegechildrensschool.org/event/k-5-end-of-year-ceremony/
END:VEVENT
BEGIN:VEVENT
DTSTART;VALUE=DATE:20230608
DTEND;VALUE=DATE:20230609
DTSTAMP:20260419T185339
CREATED:20221025T171623Z
LAST-MODIFIED:20221025T171815Z
UID:1673-1686182400-1686268799@www.millscollegechildrensschool.org
SUMMARY:ES Last day of school -12:00 pm release; NO SAC
DESCRIPTION:
URL:https://www.millscollegechildrensschool.org/event/es-last-day-of-school-3/
END:VEVENT
BEGIN:VEVENT
DTSTART;TZID=America/Los_Angeles:20230607T080000
DTEND;TZID=America/Los_Angeles:20230607T170000
DTSTAMP:20260419T185339
CREATED:20221025T171428Z
LAST-MODIFIED:20221025T171428Z
UID:1672-1686124800-1686157200@www.millscollegechildrensschool.org
SUMMARY:K-5 Field Day
DESCRIPTION:
URL:https://www.millscollegechildrensschool.org/event/k-5-field-day/
END:VEVENT
BEGIN:VEVENT
DTSTART;VALUE=DATE:20230602
DTEND;VALUE=DATE:20230603
DTSTAMP:20260419T185339
CREATED:20221025T170257Z
LAST-MODIFIED:20221025T170257Z
UID:1671-1685664000-1685750399@www.millscollegechildrensschool.org
SUMMARY:K-5 Popsicle Social
DESCRIPTION:
URL:https://www.millscollegechildrensschool.org/event/k-5-popsicle-social/
END:VEVENT
BEGIN:VEVENT
DTSTART;VALUE=DATE:20230529
DTEND;VALUE=DATE:20230530
DTSTAMP:20260419T185339
CREATED:20221025T175022Z
LAST-MODIFIED:20221025T175022Z
UID:1694-1685318400-1685404799@www.millscollegechildrensschool.org
SUMMARY:SCHOOL CLOSED: Memorial Day Holiday
DESCRIPTION:
URL:https://www.millscollegechildrensschool.org/event/school-closed-memorial-day-holiday-2/
END:VEVENT
BEGIN:VEVENT
DTSTART;VALUE=DATE:20230525
DTEND;VALUE=DATE:20230526
DTSTAMP:20260419T185339
CREATED:20221025T174905Z
LAST-MODIFIED:20221025T174905Z
UID:1693-1684972800-1685059199@www.millscollegechildrensschool.org
SUMMARY:K-5 Showcase
DESCRIPTION:
URL:https://www.millscollegechildrensschool.org/event/k-5-showcase-3/
END:VEVENT
BEGIN:VEVENT
DTSTART;VALUE=DATE:20230515
DTEND;VALUE=DATE:20230516
DTSTAMP:20260419T185339
CREATED:20221025T174758Z
LAST-MODIFIED:20221025T174758Z
UID:1692-1684108800-1684195199@www.millscollegechildrensschool.org
SUMMARY:EC Summer Session begins
DESCRIPTION:
URL:https://www.millscollegechildrensschool.org/event/ec-summer-session-begins-4/
END:VEVENT
BEGIN:VEVENT
DTSTART;VALUE=DATE:20230511
DTEND;VALUE=DATE:20230513
DTSTAMP:20260419T185339
CREATED:20221025T174625Z
LAST-MODIFIED:20221025T174625Z
UID:1691-1683763200-1683935999@www.millscollegechildrensschool.org
SUMMARY:EC Closed: Summer Prep and Orientation
DESCRIPTION:
URL:https://www.millscollegechildrensschool.org/event/ec-closed-summer-prep-and-orientation-2/
END:VEVENT
BEGIN:VEVENT
DTSTART;VALUE=DATE:20230510
DTEND;VALUE=DATE:20230511
DTSTAMP:20260419T185339
CREATED:20221025T174459Z
LAST-MODIFIED:20221025T174459Z
UID:1690-1683676800-1683763199@www.millscollegechildrensschool.org
SUMMARY:EC Last day of school
DESCRIPTION:
URL:https://www.millscollegechildrensschool.org/event/ec-last-day-of-school-4/
END:VEVENT
BEGIN:VEVENT
DTSTART;VALUE=DATE:20230510
DTEND;VALUE=DATE:20230511
DTSTAMP:20260419T185339
CREATED:20221025T174243Z
LAST-MODIFIED:20221025T174243Z
UID:1689-1683676800-1683763199@www.millscollegechildrensschool.org
SUMMARY:Teacher Appreciation Luncheon
DESCRIPTION:
URL:https://www.millscollegechildrensschool.org/event/teacher-appreciation-luncheon-8/
END:VEVENT
BEGIN:VEVENT
DTSTART;VALUE=DATE:20230505
DTEND;VALUE=DATE:20230506
DTSTAMP:20260419T185339
CREATED:20221025T174139Z
LAST-MODIFIED:20221025T174139Z
UID:1688-1683244800-1683331199@www.millscollegechildrensschool.org
SUMMARY:Art Fair
DESCRIPTION:
URL:https://www.millscollegechildrensschool.org/event/art-fair/
END:VEVENT
BEGIN:VEVENT
DTSTART;VALUE=DATE:20230428
DTEND;VALUE=DATE:20230429
DTSTAMP:20260419T185339
CREATED:20221025T170051Z
LAST-MODIFIED:20221025T170051Z
UID:1670-1682640000-1682726399@www.millscollegechildrensschool.org
SUMMARY:K-5 Walk-A-Thon
DESCRIPTION:
URL:https://www.millscollegechildrensschool.org/event/k-5-walk-a-thon/
END:VEVENT
BEGIN:VEVENT
DTSTART;VALUE=DATE:20230424
DTEND;VALUE=DATE:20230429
DTSTAMP:20260419T185339
CREATED:20221025T165836Z
LAST-MODIFIED:20221025T165836Z
UID:1669-1682294400-1682726399@www.millscollegechildrensschool.org
SUMMARY:EC Parent Conference Week
DESCRIPTION:
URL:https://www.millscollegechildrensschool.org/event/ec-parent-conference-week/
END:VEVENT
BEGIN:VEVENT
DTSTART;TZID=America/Los_Angeles:20230403T080000
DTEND;TZID=America/Los_Angeles:20230407T170000
DTSTAMP:20260419T185339
CREATED:20221021T224555Z
LAST-MODIFIED:20221021T224555Z
UID:1668-1680508800-1680886800@www.millscollegechildrensschool.org
SUMMARY:School Closed: Spring Break
DESCRIPTION:School Closed: Spring Break
URL:https://www.millscollegechildrensschool.org/event/school-closed-spring-break-5/
END:VEVENT
BEGIN:VEVENT
DTSTART;VALUE=DATE:20230331
DTEND;VALUE=DATE:20230401
DTSTAMP:20260419T185339
CREATED:20221025T174008Z
LAST-MODIFIED:20221025T174008Z
UID:1687-1680220800-1680307199@www.millscollegechildrensschool.org
SUMMARY:SCHOOL CLOSED: Cesar Chavez Day Holiday
DESCRIPTION:
URL:https://www.millscollegechildrensschool.org/event/school-closed-cesar-chavez-day-holiday/
END:VEVENT
BEGIN:VEVENT
DTSTART;VALUE=DATE:20230330
DTEND;VALUE=DATE:20230331
DTSTAMP:20260419T185339
CREATED:20221025T173853Z
LAST-MODIFIED:20221025T173853Z
UID:1686-1680134400-1680220799@www.millscollegechildrensschool.org
SUMMARY:Talent Share
DESCRIPTION:
URL:https://www.millscollegechildrensschool.org/event/talent-share-2/
END:VEVENT
BEGIN:VEVENT
DTSTART;VALUE=DATE:20230324
DTEND;VALUE=DATE:20230325
DTSTAMP:20260419T185339
CREATED:20221025T173648Z
LAST-MODIFIED:20221025T173648Z
UID:1685-1679616000-1679702399@www.millscollegechildrensschool.org
SUMMARY:SCHOOL CLOSED: Professional Development Day
DESCRIPTION:
URL:https://www.millscollegechildrensschool.org/event/school-closed-professional-development-day-7/
END:VEVENT
BEGIN:VEVENT
DTSTART;TZID=America/Los_Angeles:20230320T080000
DTEND;TZID=America/Los_Angeles:20230323T170000
DTSTAMP:20260419T185339
CREATED:20221025T173151Z
LAST-MODIFIED:20221025T173151Z
UID:1681-1679299200-1679590800@www.millscollegechildrensschool.org
SUMMARY:ES Parent Conferences: 12 Noon Release
DESCRIPTION:
URL:https://www.millscollegechildrensschool.org/event/es-parent-conferences-12-noon-release-3/
END:VEVENT
BEGIN:VEVENT
DTSTART;TZID=America/Los_Angeles:20230220T080000
DTEND;TZID=America/Los_Angeles:20230220T170000
DTSTAMP:20260419T185339
CREATED:20221021T224309Z
LAST-MODIFIED:20221021T224309Z
UID:1666-1676880000-1676912400@www.millscollegechildrensschool.org
SUMMARY:School Closed: President's Day Holiday
DESCRIPTION:School Closed: President’s Day Holiday
URL:https://www.millscollegechildrensschool.org/event/school-closed-presidents-day-holiday-3/
END:VEVENT
BEGIN:VEVENT
DTSTART;TZID=America/Los_Angeles:20230217T080000
DTEND;TZID=America/Los_Angeles:20230217T170000
DTSTAMP:20260419T185339
CREATED:20221021T224114Z
LAST-MODIFIED:20221021T224114Z
UID:1665-1676620800-1676653200@www.millscollegechildrensschool.org
SUMMARY:School Closed: Professional Development Day
DESCRIPTION:School Closed: Professional Development Day
URL:https://www.millscollegechildrensschool.org/event/school-closed-professional-development-day-5/
END:VEVENT
BEGIN:VEVENT
DTSTART;VALUE=DATE:20230117
DTEND;VALUE=DATE:20230118
DTSTAMP:20260419T185339
CREATED:20221025T172936Z
LAST-MODIFIED:20221025T172936Z
UID:1680-1673913600-1673999999@www.millscollegechildrensschool.org
SUMMARY:SCHOOL CLOSED: Professional Development Day
DESCRIPTION:
URL:https://www.millscollegechildrensschool.org/event/school-closed-professional-development-day-6/
END:VEVENT
END:VCALENDAR